BEGIN:VCALENDAR
VERSION:2.0
PRODID:-//Richland Area Community Center - ECPv6.15.20//NONSGML v1.0//EN
CALSCALE:GREGORIAN
METHOD:PUBLISH
X-ORIGINAL-URL:https://www.richlandareacc.org
X-WR-CALDESC:Events for Richland Area Community Center
REFRESH-INTERVAL;VALUE=DURATION:PT1H
X-Robots-Tag:noindex
X-PUBLISHED-TTL:PT1H
BEGIN:VTIMEZONE
TZID:America/Detroit
BEGIN:DAYLIGHT
TZOFFSETFROM:-0500
TZOFFSETTO:-0400
TZNAME:EDT
DTSTART:20230312T070000
END:DAYLIGHT
BEGIN:STANDARD
TZOFFSETFROM:-0400
TZOFFSETTO:-0500
TZNAME:EST
DTSTART:20231105T060000
END:STANDARD
BEGIN:DAYLIGHT
TZOFFSETFROM:-0500
TZOFFSETTO:-0400
TZNAME:EDT
DTSTART:20240310T070000
END:DAYLIGHT
BEGIN:STANDARD
TZOFFSETFROM:-0400
TZOFFSETTO:-0500
TZNAME:EST
DTSTART:20241103T060000
END:STANDARD
BEGIN:DAYLIGHT
TZOFFSETFROM:-0500
TZOFFSETTO:-0400
TZNAME:EDT
DTSTART:20250309T070000
END:DAYLIGHT
BEGIN:STANDARD
TZOFFSETFROM:-0400
TZOFFSETTO:-0500
TZNAME:EST
DTSTART:20251102T060000
END:STANDARD
BEGIN:DAYLIGHT
TZOFFSETFROM:-0500
TZOFFSETTO:-0400
TZNAME:EDT
DTSTART:20260308T070000
END:DAYLIGHT
BEGIN:STANDARD
TZOFFSETFROM:-0400
TZOFFSETTO:-0500
TZNAME:EST
DTSTART:20261101T060000
END:STANDARD
BEGIN:DAYLIGHT
TZOFFSETFROM:-0500
TZOFFSETTO:-0400
TZNAME:EDT
DTSTART:20270314T070000
END:DAYLIGHT
BEGIN:STANDARD
TZOFFSETFROM:-0400
TZOFFSETTO:-0500
TZNAME:EST
DTSTART:20271107T060000
END:STANDARD
END:VTIMEZONE
BEGIN:VEVENT
DTSTART;TZID=America/Detroit:20260413T120000
DTEND;TZID=America/Detroit:20260413T130000
DTSTAMP:20260423T125302
CREATED:20260316T161549Z
LAST-MODIFIED:20260316T161606Z
UID:233437-1776081600-1776085200@www.richlandareacc.org
SUMMARY:Ticks in Kalamazoo Workshop
DESCRIPTION:
URL:https://www.richlandareacc.org/event/ticks-in-kalamazoo-workshop/
LOCATION:Richland Area Community Center\, 9400 East CD Avenue\, Richland\, MI\, 49083\, United States
CATEGORIES:Community Events,Information
ATTACH;FMTTYPE=image/png:https://www.richlandareacc.org/wp-content/uploads/2026/03/Ticks-in-Kalamazoo_04.13.2026.pdf.png
ORGANIZER;CN="Richland Area Community Center":MAILTO:info@richlandareacc.org
GEO:42.3825887;-85.4465201
X-APPLE-STRUCTURED-LOCATION;VALUE=URI;X-ADDRESS=Richland Area Community Center 9400 East CD Avenue Richland MI 49083 United States;X-APPLE-RADIUS=500;X-TITLE=9400 East CD Avenue:geo:-85.4465201,42.3825887
END:VEVENT
BEGIN:VEVENT
DTSTART;TZID=America/Detroit:20251110T090000
DTEND;TZID=America/Detroit:20251110T110000
DTSTAMP:20260423T125302
CREATED:20250112T172039Z
LAST-MODIFIED:20250714T162051Z
UID:231346-1762765200-1762772400@www.richlandareacc.org
SUMMARY:Kalamazoo County Area Agency on Aging 3A (AAA3A)
DESCRIPTION:
URL:https://www.richlandareacc.org/event/kalamazoo-county-area-agency-on-aging-3a-aaa3a/2025-11-10/
LOCATION:MI
CATEGORIES:Community Events,Information,Lifelong Learning,Seniors
END:VEVENT
BEGIN:VEVENT
DTSTART;TZID=America/Detroit:20250908T090000
DTEND;TZID=America/Detroit:20250908T110000
DTSTAMP:20260423T125302
CREATED:20250112T172039Z
LAST-MODIFIED:20250714T162050Z
UID:231345-1757322000-1757329200@www.richlandareacc.org
SUMMARY:Kalamazoo County Area Agency on Aging 3A (AAA3A)
DESCRIPTION:
URL:https://www.richlandareacc.org/event/kalamazoo-county-area-agency-on-aging-3a-aaa3a/2025-09-08/
LOCATION:MI
CATEGORIES:Community Events,Information,Lifelong Learning,Seniors
END:VEVENT
BEGIN:VEVENT
DTSTART;TZID=America/Detroit:20250714T090000
DTEND;TZID=America/Detroit:20250714T110000
DTSTAMP:20260423T125302
CREATED:20250112T172039Z
LAST-MODIFIED:20250714T162047Z
UID:229223-1752483600-1752490800@www.richlandareacc.org
SUMMARY:Kalamazoo County Area Agency on Aging 3A (AAA3A)
DESCRIPTION:
URL:https://www.richlandareacc.org/event/kalamazoo-county-area-agency-on-aging-3a-aaa3a/2025-07-14/
LOCATION:MI
CATEGORIES:Community Events,Information,Lifelong Learning,Seniors
END:VEVENT
BEGIN:VEVENT
DTSTART;TZID=America/Detroit:20250512T093000
DTEND;TZID=America/Detroit:20250512T103000
DTSTAMP:20260423T125303
CREATED:20250203T155309Z
LAST-MODIFIED:20250203T173534Z
UID:229837-1747042200-1747045800@www.richlandareacc.org
SUMMARY:Medicare Presentation
DESCRIPTION:Explore Medicare with Us!\nWhether you’re new to Medicare\, seeking to change plans during Open Enrollment\, or simply aiming to grasp Medicare’s intricacies\, join our free Medicare 101 presentation hosted by the Area Agency on Aging’s MMAP program. Gain unbiased insights into your Medicare choices and make informed decisions.\n  \nKalamazoo County\, Health and Community Services Department\, Area Agency on Aging will do a free presentation on Medicare\, on Thursday\, May 12th\, 9:30 to 10:30AM. \n  \n 
URL:https://www.richlandareacc.org/event/229837/
LOCATION:Richland Area Community Center\, 9400 East CD Avenue\, Richland\, MI\, 49083\, United States
CATEGORIES:Community Events,Information,Seniors
ATTACH;FMTTYPE=image/jpeg:https://www.richlandareacc.org/wp-content/uploads/2024/08/2022_MMAP_logo_vert_final-01-scaled.jpg
ORGANIZER;CN="Richland Area Community Center":MAILTO:info@richlandareacc.org
GEO:42.3825887;-85.4465201
X-APPLE-STRUCTURED-LOCATION;VALUE=URI;X-ADDRESS=Richland Area Community Center 9400 East CD Avenue Richland MI 49083 United States;X-APPLE-RADIUS=500;X-TITLE=9400 East CD Avenue:geo:-85.4465201,42.3825887
END:VEVENT
BEGIN:VEVENT
DTSTART;TZID=America/Detroit:20250422T130000
DTEND;TZID=America/Detroit:20250422T160000
DTSTAMP:20260423T125303
CREATED:20250324T135418Z
LAST-MODIFIED:20250324T135617Z
UID:232000-1745326800-1745337600@www.richlandareacc.org
SUMMARY:Earth Day
DESCRIPTION:join B.E.S.T. Labs at the RACC for\nEarth Day\nFor all ages!\nJoin us at the RACC for Earth Day April 22\, 1-4:00 pm\, sponsored by B.E.S.T. Labs\, Inc. Pick up your passport and travel through the Water Cycle as a water molecule from Station to Station. Jam to music\, explore careers\, and grab your free water conservation kit and more. Let’s inspire each other to do better for ourselves and the Planet!
URL:https://www.richlandareacc.org/event/earth-day/
LOCATION:Richland Area Community Center\, 9400 East CD Avenue\, Richland\, MI\, 49083\, United States
CATEGORIES:Community Events,Information,Lifelong Learning
ATTACH;FMTTYPE=image/jpeg:https://www.richlandareacc.org/wp-content/uploads/2025/03/Earth-Day.jpg
ORGANIZER;CN="Richland Area Community Center":MAILTO:info@richlandareacc.org
GEO:42.3825887;-85.4465201
X-APPLE-STRUCTURED-LOCATION;VALUE=URI;X-ADDRESS=Richland Area Community Center 9400 East CD Avenue Richland MI 49083 United States;X-APPLE-RADIUS=500;X-TITLE=9400 East CD Avenue:geo:-85.4465201,42.3825887
END:VEVENT
BEGIN:VEVENT
DTSTART;VALUE=DATE:20250213
DTEND;VALUE=DATE:20250214
DTSTAMP:20260423T125303
CREATED:20250119T122442Z
LAST-MODIFIED:20250213T115356Z
UID:231378-1739404800-1739491199@www.richlandareacc.org
SUMMARY:CLOSED DUE TO INCLEMENT WEATHER
DESCRIPTION:The RACC will be closed on February 13th due to inclement weather. Please stay safe.
URL:https://www.richlandareacc.org/event/closed-due-to-severe-weather-2-2-2-2025-01-21/
LOCATION:Richland Area Community Center\, 9400 East CD Avenue\, Richland\, MI\, 49083\, United States
CATEGORIES:Community Events,Information
ATTACH;FMTTYPE=image/png:https://www.richlandareacc.org/wp-content/uploads/2024/01/Green-Playful-Closed-Due-To-Weather-Instagram-Post.png
ORGANIZER;CN="Richland Area Community Center":MAILTO:info@richlandareacc.org
GEO:42.3825887;-85.4465201
X-APPLE-STRUCTURED-LOCATION;VALUE=URI;X-ADDRESS=Richland Area Community Center 9400 East CD Avenue Richland MI 49083 United States;X-APPLE-RADIUS=500;X-TITLE=9400 East CD Avenue:geo:-85.4465201,42.3825887
END:VEVENT
BEGIN:VEVENT
DTSTART;VALUE=DATE:20250120
DTEND;VALUE=DATE:20250121
DTSTAMP:20260423T125303
CREATED:20250119T122442Z
LAST-MODIFIED:20250121T221055Z
UID:228228-1737331200-1737417599@www.richlandareacc.org
SUMMARY:CLOSED DUE TO INCLEMENT WEATHER
DESCRIPTION:The RACC will be closed on January 20th\, 21st\, and 22nd due to inclement weather. Please stay safe.
URL:https://www.richlandareacc.org/event/closed-due-to-severe-weather-2-2-2/2025-01-20/
LOCATION:Richland Area Community Center\, 9400 East CD Avenue\, Richland\, MI\, 49083\, United States
CATEGORIES:Community Events,Information
ATTACH;FMTTYPE=image/png:https://www.richlandareacc.org/wp-content/uploads/2024/01/Green-Playful-Closed-Due-To-Weather-Instagram-Post.png
ORGANIZER;CN="Richland Area Community Center":MAILTO:info@richlandareacc.org
GEO:42.3825887;-85.4465201
X-APPLE-STRUCTURED-LOCATION;VALUE=URI;X-ADDRESS=Richland Area Community Center 9400 East CD Avenue Richland MI 49083 United States;X-APPLE-RADIUS=500;X-TITLE=9400 East CD Avenue:geo:-85.4465201,42.3825887
END:VEVENT
BEGIN:VEVENT
DTSTART;TZID=America/Detroit:20240926T170000
DTEND;TZID=America/Detroit:20240926T180000
DTSTAMP:20260423T125303
CREATED:20240912T165954Z
LAST-MODIFIED:20240912T165955Z
UID:229997-1727370000-1727373600@www.richlandareacc.org
SUMMARY:Student Loans and Funding the Future w/ Kalsee Credit Union
DESCRIPTION:
URL:https://www.richlandareacc.org/event/student-loans-and-funding-the-future-w-kalsee-credit-union/
LOCATION:Richland Area Community Center\, 9400 East CD Avenue\, Richland\, MI\, 49083\, United States
CATEGORIES:Community Events,Information,Lifelong Learning
ATTACH;FMTTYPE=image/jpeg:https://www.richlandareacc.org/wp-content/uploads/2024/09/Fall-2024-2.jpg
ORGANIZER;CN="Richland Area Community Center":MAILTO:info@richlandareacc.org
GEO:42.3825887;-85.4465201
X-APPLE-STRUCTURED-LOCATION;VALUE=URI;X-ADDRESS=Richland Area Community Center 9400 East CD Avenue Richland MI 49083 United States;X-APPLE-RADIUS=500;X-TITLE=9400 East CD Avenue:geo:-85.4465201,42.3825887
END:VEVENT
BEGIN:VEVENT
DTSTART;TZID=America/Detroit:20240829T120000
DTEND;TZID=America/Detroit:20240903T090000
DTSTAMP:20260423T125303
CREATED:20240815T230959Z
LAST-MODIFIED:20240815T231032Z
UID:229832-1724932800-1725354000@www.richlandareacc.org
SUMMARY:Closed for Labor Day Weekend
DESCRIPTION:
URL:https://www.richlandareacc.org/event/closed-for-labor-day-weekend/
LOCATION:Richland Area Community Center\, 9400 East CD Avenue\, Richland\, MI\, 49083\, United States
CATEGORIES:Information
ATTACH;FMTTYPE=image/png:https://www.richlandareacc.org/wp-content/uploads/2024/08/Blue-and-Red-Simple-Labor-Day-Poster.png
ORGANIZER;CN="Richland Area Community Center":MAILTO:info@richlandareacc.org
GEO:42.3825887;-85.4465201
X-APPLE-STRUCTURED-LOCATION;VALUE=URI;X-ADDRESS=Richland Area Community Center 9400 East CD Avenue Richland MI 49083 United States;X-APPLE-RADIUS=500;X-TITLE=9400 East CD Avenue:geo:-85.4465201,42.3825887
END:VEVENT
END:VCALENDAR