BEGIN:VCALENDAR
VERSION:2.0
PRODID:-//Richland Area Community Center - ECPv6.15.20//NONSGML v1.0//EN
CALSCALE:GREGORIAN
METHOD:PUBLISH
X-ORIGINAL-URL:https://www.richlandareacc.org
X-WR-CALDESC:Events for Richland Area Community Center
REFRESH-INTERVAL;VALUE=DURATION:PT1H
X-Robots-Tag:noindex
X-PUBLISHED-TTL:PT1H
BEGIN:VTIMEZONE
TZID:America/Detroit
BEGIN:DAYLIGHT
TZOFFSETFROM:-0500
TZOFFSETTO:-0400
TZNAME:EDT
DTSTART:20240310T070000
END:DAYLIGHT
BEGIN:STANDARD
TZOFFSETFROM:-0400
TZOFFSETTO:-0500
TZNAME:EST
DTSTART:20241103T060000
END:STANDARD
BEGIN:DAYLIGHT
TZOFFSETFROM:-0500
TZOFFSETTO:-0400
TZNAME:EDT
DTSTART:20250309T070000
END:DAYLIGHT
BEGIN:STANDARD
TZOFFSETFROM:-0400
TZOFFSETTO:-0500
TZNAME:EST
DTSTART:20251102T060000
END:STANDARD
BEGIN:DAYLIGHT
TZOFFSETFROM:-0500
TZOFFSETTO:-0400
TZNAME:EDT
DTSTART:20260308T070000
END:DAYLIGHT
BEGIN:STANDARD
TZOFFSETFROM:-0400
TZOFFSETTO:-0500
TZNAME:EST
DTSTART:20261101T060000
END:STANDARD
END:VTIMEZONE
BEGIN:VEVENT
DTSTART;TZID=America/Detroit:20250106T090000
DTEND;TZID=America/Detroit:20250106T100000
DTSTAMP:20260421T062140
CREATED:20241015T175058Z
LAST-MODIFIED:20241028T152211Z
UID:229763-1736154000-1736157600@www.richlandareacc.org
SUMMARY:Yoga-Hatha Vinyasa with Cathy Tucci
DESCRIPTION:
URL:http://www.richlandareacc.org/yoga/
LOCATION:Richland Area Community Center\, 9400 East CD Avenue\, Richland\, MI\, 49083\, United States
CATEGORIES:Fitness,Healthy Living,Yoga
ATTACH;FMTTYPE=image/jpeg:https://www.richlandareacc.org/wp-content/uploads/2016/01/eventYoga.jpg
ORGANIZER;CN="Richland Area Community Center":MAILTO:info@richlandareacc.org
GEO:42.3825887;-85.4465201
X-APPLE-STRUCTURED-LOCATION;VALUE=URI;X-ADDRESS=Richland Area Community Center 9400 East CD Avenue Richland MI 49083 United States;X-APPLE-RADIUS=500;X-TITLE=9400 East CD Avenue:geo:-85.4465201,42.3825887
END:VEVENT
BEGIN:VEVENT
DTSTART;TZID=America/Detroit:20250113T180000
DTEND;TZID=America/Detroit:20250113T190000
DTSTAMP:20260421T062140
CREATED:20250109T142024Z
LAST-MODIFIED:20250109T142423Z
UID:231326-1736791200-1736794800@www.richlandareacc.org
SUMMARY:Slow Yoga with Wendy Sinicki
DESCRIPTION:
URL:https://richlandareacc.wufoo.com/forms/zbxxxva1b4xc6w/
LOCATION:Richland Area Community Center\, 9400 East CD Avenue\, Richland\, MI\, 49083\, United States
CATEGORIES:Fitness,Healthy Living,Special Events,Yoga
ATTACH;FMTTYPE=image/png:https://www.richlandareacc.org/wp-content/uploads/2025/01/slow-yoga.png
ORGANIZER;CN="Richland Area Community Center":MAILTO:info@richlandareacc.org
GEO:42.3825887;-85.4465201
X-APPLE-STRUCTURED-LOCATION;VALUE=URI;X-ADDRESS=Richland Area Community Center 9400 East CD Avenue Richland MI 49083 United States;X-APPLE-RADIUS=500;X-TITLE=9400 East CD Avenue:geo:-85.4465201,42.3825887
END:VEVENT
BEGIN:VEVENT
DTSTART;TZID=America/Detroit:20250120T180000
DTEND;TZID=America/Detroit:20250120T190000
DTSTAMP:20260421T062140
CREATED:20250109T142024Z
LAST-MODIFIED:20250120T213127Z
UID:231327-1737396000-1737399600@www.richlandareacc.org
SUMMARY:Slow Yoga with Wendy Sinicki
DESCRIPTION:
URL:https://richlandareacc.wufoo.com/forms/zbxxxva1b4xc6w/
LOCATION:Richland Area Community Center\, 9400 East CD Avenue\, Richland\, MI\, 49083\, United States
CATEGORIES:Fitness,Healthy Living,Special Events,Yoga
ATTACH;FMTTYPE=image/png:https://www.richlandareacc.org/wp-content/uploads/2025/01/slow-yoga.png
ORGANIZER;CN="Richland Area Community Center":MAILTO:info@richlandareacc.org
GEO:42.3825887;-85.4465201
X-APPLE-STRUCTURED-LOCATION;VALUE=URI;X-ADDRESS=Richland Area Community Center 9400 East CD Avenue Richland MI 49083 United States;X-APPLE-RADIUS=500;X-TITLE=9400 East CD Avenue:geo:-85.4465201,42.3825887
END:VEVENT
BEGIN:VEVENT
DTSTART;TZID=America/Detroit:20250123T090000
DTEND;TZID=America/Detroit:20250123T140000
DTSTAMP:20260421T062140
CREATED:20230413T232015Z
LAST-MODIFIED:20241028T163827Z
UID:202641-1737622800-1737640800@www.richlandareacc.org
SUMMARY:Foot Clinic
DESCRIPTION:4th Thursday of the Month.\nBy Appointment\, Kathleen 269.671.5427\nTreatment consists of routine foot care\, including trimming and filing toenails as well as any corns or calluses on the feet.  To schedule an appointment\, please call Kathleen at 269.671.5427.
URL:https://www.richlandareacc.org/foot-clinic/
LOCATION:Richland Area Community Center\, 9400 East CD Avenue\, Richland\, MI\, 49083\, United States
CATEGORIES:Healthy Living,Seniors
ATTACH;FMTTYPE=image/png:https://www.richlandareacc.org/wp-content/uploads/2016/11/foot-cleaning-onurfeetcom.jpg-e1479915820796.png
GEO:42.3825887;-85.4465201
X-APPLE-STRUCTURED-LOCATION;VALUE=URI;X-ADDRESS=Richland Area Community Center 9400 East CD Avenue Richland MI 49083 United States;X-APPLE-RADIUS=500;X-TITLE=9400 East CD Avenue:geo:-85.4465201,42.3825887
END:VEVENT
BEGIN:VEVENT
DTSTART;TZID=America/Detroit:20250130T103000
DTEND;TZID=America/Detroit:20250130T113000
DTSTAMP:20260421T062140
CREATED:20190717T152938Z
LAST-MODIFIED:20250123T163757Z
UID:230590-1738233000-1738236600@www.richlandareacc.org
SUMMARY:Swingin' with Susan
DESCRIPTION:
URL:http://www.richlandareacc.org/swingin-with-susan/
LOCATION:Richland Area Community Center\, 9400 East CD Avenue\, Richland\, MI\, 49083\, United States
CATEGORIES:Fitness,Healthy Living,Social Groups,Swingin' with Susan
ATTACH;FMTTYPE=image/jpeg:https://www.richlandareacc.org/wp-content/uploads/2016/01/Swingin-with-Susan-3.jpg
ORGANIZER;CN="Richland Area Community Center":MAILTO:info@richlandareacc.org
GEO:42.3825887;-85.4465201
X-APPLE-STRUCTURED-LOCATION;VALUE=URI;X-ADDRESS=Richland Area Community Center 9400 East CD Avenue Richland MI 49083 United States;X-APPLE-RADIUS=500;X-TITLE=9400 East CD Avenue:geo:-85.4465201,42.3825887
END:VEVENT
END:VCALENDAR