BEGIN:VCALENDAR
VERSION:2.0
PRODID:-//Richland Area Community Center - ECPv6.15.20//NONSGML v1.0//EN
CALSCALE:GREGORIAN
METHOD:PUBLISH
X-WR-CALNAME:Richland Area Community Center
X-ORIGINAL-URL:https://www.richlandareacc.org
X-WR-CALDESC:Events for Richland Area Community Center
REFRESH-INTERVAL;VALUE=DURATION:PT1H
X-Robots-Tag:noindex
X-PUBLISHED-TTL:PT1H
BEGIN:VTIMEZONE
TZID:America/Detroit
BEGIN:DAYLIGHT
TZOFFSETFROM:-0500
TZOFFSETTO:-0400
TZNAME:EDT
DTSTART:20230312T070000
END:DAYLIGHT
BEGIN:STANDARD
TZOFFSETFROM:-0400
TZOFFSETTO:-0500
TZNAME:EST
DTSTART:20231105T060000
END:STANDARD
BEGIN:DAYLIGHT
TZOFFSETFROM:-0500
TZOFFSETTO:-0400
TZNAME:EDT
DTSTART:20240310T070000
END:DAYLIGHT
BEGIN:STANDARD
TZOFFSETFROM:-0400
TZOFFSETTO:-0500
TZNAME:EST
DTSTART:20241103T060000
END:STANDARD
BEGIN:DAYLIGHT
TZOFFSETFROM:-0500
TZOFFSETTO:-0400
TZNAME:EDT
DTSTART:20250309T070000
END:DAYLIGHT
BEGIN:STANDARD
TZOFFSETFROM:-0400
TZOFFSETTO:-0500
TZNAME:EST
DTSTART:20251102T060000
END:STANDARD
END:VTIMEZONE
BEGIN:VEVENT
DTSTART;TZID=America/Detroit:20241104T103000
DTEND;TZID=America/Detroit:20241104T113000
DTSTAMP:20260423T072357
CREATED:20190717T152938Z
LAST-MODIFIED:20241003T170819Z
UID:227566-1730716200-1730719800@www.richlandareacc.org
SUMMARY:Swingin' with Susan
DESCRIPTION:
URL:http://www.richlandareacc.org/swingin-with-susan/
LOCATION:Richland Area Community Center\, 9400 East CD Avenue\, Richland\, MI\, 49083\, United States
CATEGORIES:Fitness,Healthy Living,Social Groups,Swingin' with Susan
ATTACH;FMTTYPE=image/jpeg:https://www.richlandareacc.org/wp-content/uploads/2016/01/Swingin-with-Susan-3.jpg
ORGANIZER;CN="Richland Area Community Center":MAILTO:info@richlandareacc.org
GEO:42.3825887;-85.4465201
X-APPLE-STRUCTURED-LOCATION;VALUE=URI;X-ADDRESS=Richland Area Community Center 9400 East CD Avenue Richland MI 49083 United States;X-APPLE-RADIUS=500;X-TITLE=9400 East CD Avenue:geo:-85.4465201,42.3825887
END:VEVENT
BEGIN:VEVENT
DTSTART;TZID=America/Detroit:20241104T190000
DTEND;TZID=America/Detroit:20241104T200000
DTSTAMP:20260423T072357
CREATED:20240908T171014Z
LAST-MODIFIED:20241031T175030Z
UID:230135-1730746800-1730750400@www.richlandareacc.org
SUMMARY:Restorative Yoga w/Wendy
DESCRIPTION:
URL:https://www.richlandareacc.org/restorative-yoga-w-wendy/
LOCATION:Richland Area Community Center\, 9400 East CD Avenue\, Richland\, MI\, 49083\, United States
CATEGORIES:Fitness,Healthy Living,Yoga
ATTACH;FMTTYPE=image/png:https://www.richlandareacc.org/wp-content/uploads/2024/09/Restorative-Yoga-2-1.png
ORGANIZER;CN="Richland Area Community Center":MAILTO:info@richlandareacc.org
GEO:42.3825887;-85.4465201
X-APPLE-STRUCTURED-LOCATION;VALUE=URI;X-ADDRESS=Richland Area Community Center 9400 East CD Avenue Richland MI 49083 United States;X-APPLE-RADIUS=500;X-TITLE=9400 East CD Avenue:geo:-85.4465201,42.3825887
END:VEVENT
BEGIN:VEVENT
DTSTART;TZID=America/Detroit:20241106T130000
DTEND;TZID=America/Detroit:20241106T150000
DTSTAMP:20260423T072357
CREATED:20221116T185801Z
LAST-MODIFIED:20241024T162537Z
UID:227737-1730898000-1730905200@www.richlandareacc.org
SUMMARY:Ping Pong
DESCRIPTION:
URL:https://www.richlandareacc.org/event/ping-pong-2024-11-06/
LOCATION:Richland Area Community Center\, 9400 East CD Avenue\, Richland\, MI\, 49083\, United States
CATEGORIES:Healthy Living,Ping Pong,Social Groups
ATTACH;FMTTYPE=image/jpeg:https://www.richlandareacc.org/wp-content/uploads/2016/02/Ping-Pong-1.jpg
ORGANIZER;CN="Richland Area Community Center":MAILTO:info@richlandareacc.org
GEO:42.3825887;-85.4465201
X-APPLE-STRUCTURED-LOCATION;VALUE=URI;X-ADDRESS=Richland Area Community Center 9400 East CD Avenue Richland MI 49083 United States;X-APPLE-RADIUS=500;X-TITLE=9400 East CD Avenue:geo:-85.4465201,42.3825887
END:VEVENT
BEGIN:VEVENT
DTSTART;TZID=America/Detroit:20241111T180000
DTEND;TZID=America/Detroit:20241111T193000
DTSTAMP:20260423T072357
CREATED:20240919T184340Z
LAST-MODIFIED:20240919T184340Z
UID:230033-1731348000-1731353400@www.richlandareacc.org
SUMMARY:Exploring Sourdough!
DESCRIPTION:
URL:https://www.richlandareacc.org/event/exploring-sourdough/
LOCATION:Richland Area Community Center\, 9400 East CD Avenue\, Richland\, MI\, 49083\, United States
CATEGORIES:Cooking,Culinary,Healthy Living,Lifelong Learning
ATTACH;FMTTYPE=image/jpeg:https://www.richlandareacc.org/wp-content/uploads/2024/03/Exploring-Sourdough-1.jpg
ORGANIZER;CN="Richland Area Community Center":MAILTO:info@richlandareacc.org
GEO:42.3825887;-85.4465201
X-APPLE-STRUCTURED-LOCATION;VALUE=URI;X-ADDRESS=Richland Area Community Center 9400 East CD Avenue Richland MI 49083 United States;X-APPLE-RADIUS=500;X-TITLE=9400 East CD Avenue:geo:-85.4465201,42.3825887
END:VEVENT
BEGIN:VEVENT
DTSTART;TZID=America/Detroit:20241125T090000
DTEND;TZID=America/Detroit:20241125T100000
DTSTAMP:20260423T072357
CREATED:20241028T154136Z
LAST-MODIFIED:20241121T175605Z
UID:230302-1732525200-1732528800@www.richlandareacc.org
SUMMARY:Yoga-Hatha Vinyasa with Cathy Tucci
DESCRIPTION:
URL:http://www.richlandareacc.org/yoga/
LOCATION:Richland Area Community Center\, 9400 East CD Avenue\, Richland\, MI\, 49083\, United States
CATEGORIES:Fitness,Healthy Living,Yoga
ATTACH;FMTTYPE=image/jpeg:https://www.richlandareacc.org/wp-content/uploads/2016/01/eventYoga.jpg
ORGANIZER;CN="Richland Area Community Center":MAILTO:info@richlandareacc.org
GEO:42.3825887;-85.4465201
X-APPLE-STRUCTURED-LOCATION;VALUE=URI;X-ADDRESS=Richland Area Community Center 9400 East CD Avenue Richland MI 49083 United States;X-APPLE-RADIUS=500;X-TITLE=9400 East CD Avenue:geo:-85.4465201,42.3825887
END:VEVENT
BEGIN:VEVENT
DTSTART;TZID=America/Detroit:20241125T101500
DTEND;TZID=America/Detroit:20241125T111500
DTSTAMP:20260423T072357
CREATED:20170927T160346Z
LAST-MODIFIED:20241121T173153Z
UID:230375-1732529700-1732533300@www.richlandareacc.org
SUMMARY:Yoga-Gentle with Cathy Tucci
DESCRIPTION:
URL:http://www.richlandareacc.org/yoga/
LOCATION:Richland Area Community Center\, 9400 East CD Avenue\, Richland\, MI\, 49083\, United States
CATEGORIES:Fitness,Healthy Living,Yoga
ATTACH;FMTTYPE=image/jpeg:https://www.richlandareacc.org/wp-content/uploads/2016/01/slideYoga2-e1470834970467.jpg
GEO:42.3825887;-85.4465201
X-APPLE-STRUCTURED-LOCATION;VALUE=URI;X-ADDRESS=Richland Area Community Center 9400 East CD Avenue Richland MI 49083 United States;X-APPLE-RADIUS=500;X-TITLE=9400 East CD Avenue:geo:-85.4465201,42.3825887
END:VEVENT
BEGIN:VEVENT
DTSTART;TZID=America/Detroit:20241126T090000
DTEND;TZID=America/Detroit:20241126T140000
DTSTAMP:20260423T072357
CREATED:20230413T232015Z
LAST-MODIFIED:20241028T184500Z
UID:227900-1732611600-1732629600@www.richlandareacc.org
SUMMARY:Foot Clinic
DESCRIPTION:By Appointment\, Kathleen 269.671.5427\nTreatment consists of routine foot care\, including trimming and filing toenails as well as any corns or calluses on the feet.  To schedule an appointment\, please call Kathleen at 269.671.5427.
URL:https://www.richlandareacc.org/foot-clinic/
LOCATION:Richland Area Community Center\, 9400 East CD Avenue\, Richland\, MI\, 49083\, United States
CATEGORIES:Healthy Living,Seniors
ATTACH;FMTTYPE=image/png:https://www.richlandareacc.org/wp-content/uploads/2016/11/foot-cleaning-onurfeetcom.jpg-e1479915820796.png
GEO:42.3825887;-85.4465201
X-APPLE-STRUCTURED-LOCATION;VALUE=URI;X-ADDRESS=Richland Area Community Center 9400 East CD Avenue Richland MI 49083 United States;X-APPLE-RADIUS=500;X-TITLE=9400 East CD Avenue:geo:-85.4465201,42.3825887
END:VEVENT
END:VCALENDAR