BEGIN:VCALENDAR
VERSION:2.0
PRODID:-//Richland Area Community Center - ECPv6.15.20//NONSGML v1.0//EN
CALSCALE:GREGORIAN
METHOD:PUBLISH
X-WR-CALNAME:Richland Area Community Center
X-ORIGINAL-URL:https://www.richlandareacc.org
X-WR-CALDESC:Events for Richland Area Community Center
REFRESH-INTERVAL;VALUE=DURATION:PT1H
X-Robots-Tag:noindex
X-PUBLISHED-TTL:PT1H
BEGIN:VTIMEZONE
TZID:America/Detroit
BEGIN:DAYLIGHT
TZOFFSETFROM:-0500
TZOFFSETTO:-0400
TZNAME:EDT
DTSTART:20230312T070000
END:DAYLIGHT
BEGIN:STANDARD
TZOFFSETFROM:-0400
TZOFFSETTO:-0500
TZNAME:EST
DTSTART:20231105T060000
END:STANDARD
BEGIN:DAYLIGHT
TZOFFSETFROM:-0500
TZOFFSETTO:-0400
TZNAME:EDT
DTSTART:20240310T070000
END:DAYLIGHT
BEGIN:STANDARD
TZOFFSETFROM:-0400
TZOFFSETTO:-0500
TZNAME:EST
DTSTART:20241103T060000
END:STANDARD
BEGIN:DAYLIGHT
TZOFFSETFROM:-0500
TZOFFSETTO:-0400
TZNAME:EDT
DTSTART:20250309T070000
END:DAYLIGHT
BEGIN:STANDARD
TZOFFSETFROM:-0400
TZOFFSETTO:-0500
TZNAME:EST
DTSTART:20251102T060000
END:STANDARD
END:VTIMEZONE
BEGIN:VEVENT
DTSTART;TZID=America/Detroit:20241008T180000
DTEND;TZID=America/Detroit:20241008T200000
DTSTAMP:20260423T234603
CREATED:20240919T182426Z
LAST-MODIFIED:20240919T182426Z
UID:230027-1728410400-1728417600@www.richlandareacc.org
SUMMARY:Plant-Powered Cooking: Pizza!
DESCRIPTION:
URL:https://www.richlandareacc.org/plant-powered-cooking-pizza/
LOCATION:Richland Area Community Center\, 9400 East CD Avenue\, Richland\, MI\, 49083\, United States
CATEGORIES:Cooking,Culinary,Healthy Living
ATTACH;FMTTYPE=image/jpeg:https://www.richlandareacc.org/wp-content/uploads/2024/09/Fall-2024-3-1.jpg
ORGANIZER;CN="Richland Area Community Center":MAILTO:info@richlandareacc.org
GEO:42.3825887;-85.4465201
X-APPLE-STRUCTURED-LOCATION;VALUE=URI;X-ADDRESS=Richland Area Community Center 9400 East CD Avenue Richland MI 49083 United States;X-APPLE-RADIUS=500;X-TITLE=9400 East CD Avenue:geo:-85.4465201,42.3825887
END:VEVENT
BEGIN:VEVENT
DTSTART;TZID=America/Detroit:20241014T103000
DTEND;TZID=America/Detroit:20241014T113000
DTSTAMP:20260423T234603
CREATED:20190717T152938Z
LAST-MODIFIED:20241003T170900Z
UID:227560-1728901800-1728905400@www.richlandareacc.org
SUMMARY:Swingin' with Susan
DESCRIPTION:
URL:http://www.richlandareacc.org/swingin-with-susan/
LOCATION:Richland Area Community Center\, 9400 East CD Avenue\, Richland\, MI\, 49083\, United States
CATEGORIES:Fitness,Healthy Living,Social Groups,Swingin' with Susan
ATTACH;FMTTYPE=image/jpeg:https://www.richlandareacc.org/wp-content/uploads/2016/01/Swingin-with-Susan-3.jpg
ORGANIZER;CN="Richland Area Community Center":MAILTO:info@richlandareacc.org
GEO:42.3825887;-85.4465201
X-APPLE-STRUCTURED-LOCATION;VALUE=URI;X-ADDRESS=Richland Area Community Center 9400 East CD Avenue Richland MI 49083 United States;X-APPLE-RADIUS=500;X-TITLE=9400 East CD Avenue:geo:-85.4465201,42.3825887
END:VEVENT
BEGIN:VEVENT
DTSTART;TZID=America/Detroit:20241016T130000
DTEND;TZID=America/Detroit:20241016T150000
DTSTAMP:20260423T234603
CREATED:20221116T185801Z
LAST-MODIFIED:20240815T222135Z
UID:227734-1729083600-1729090800@www.richlandareacc.org
SUMMARY:Ping Pong
DESCRIPTION:
URL:https://www.richlandareacc.org/event/ping-pong-2024-10-16/
LOCATION:Richland Area Community Center\, 9400 East CD Avenue\, Richland\, MI\, 49083\, United States
CATEGORIES:Healthy Living,Ping Pong,Social Groups
ATTACH;FMTTYPE=image/jpeg:https://www.richlandareacc.org/wp-content/uploads/2016/02/Ping-Pong-1.jpg
ORGANIZER;CN="Richland Area Community Center":MAILTO:info@richlandareacc.org
GEO:42.3825887;-85.4465201
X-APPLE-STRUCTURED-LOCATION;VALUE=URI;X-ADDRESS=Richland Area Community Center 9400 East CD Avenue Richland MI 49083 United States;X-APPLE-RADIUS=500;X-TITLE=9400 East CD Avenue:geo:-85.4465201,42.3825887
END:VEVENT
BEGIN:VEVENT
DTSTART;TZID=America/Detroit:20241019T100000
DTEND;TZID=America/Detroit:20241019T170000
DTSTAMP:20260423T234603
CREATED:20210907T182859Z
LAST-MODIFIED:20241020T144952Z
UID:221312-1729332000-1729357200@www.richlandareacc.org
SUMMARY:Arts and Eats 2024
DESCRIPTION:
URL:https://www.richlandareacc.org/arts-and-eats-2024/
LOCATION:Richland Area Community Center\, 9400 East CD Avenue\, Richland\, MI\, 49083\, United States
CATEGORIES:Arts & Culture,Community Events,Culinary,Healthy Living
ATTACH;FMTTYPE=image/png:https://www.richlandareacc.org/wp-content/uploads/2021/09/Arts-and-Eats-leaf-with-stacked-purple-words-under.png
ORGANIZER;CN="Richland Area Community Center":MAILTO:info@richlandareacc.org
GEO:42.3825887;-85.4465201
X-APPLE-STRUCTURED-LOCATION;VALUE=URI;X-ADDRESS=Richland Area Community Center 9400 East CD Avenue Richland MI 49083 United States;X-APPLE-RADIUS=500;X-TITLE=9400 East CD Avenue:geo:-85.4465201,42.3825887
END:VEVENT
BEGIN:VEVENT
DTSTART;TZID=America/Detroit:20241031T101500
DTEND;TZID=America/Detroit:20241031T111500
DTSTAMP:20260423T234603
CREATED:20170927T160346Z
LAST-MODIFIED:20241028T161048Z
UID:228727-1730369700-1730373300@www.richlandareacc.org
SUMMARY:Yoga-Gentle with Cathy Tucci
DESCRIPTION:
URL:http://www.richlandareacc.org/yoga/
LOCATION:Richland Area Community Center\, 9400 East CD Avenue\, Richland\, MI\, 49083\, United States
CATEGORIES:Fitness,Healthy Living,Yoga
ATTACH;FMTTYPE=image/jpeg:https://www.richlandareacc.org/wp-content/uploads/2016/01/slideYoga2-e1470834970467.jpg
GEO:42.3825887;-85.4465201
X-APPLE-STRUCTURED-LOCATION;VALUE=URI;X-ADDRESS=Richland Area Community Center 9400 East CD Avenue Richland MI 49083 United States;X-APPLE-RADIUS=500;X-TITLE=9400 East CD Avenue:geo:-85.4465201,42.3825887
END:VEVENT
END:VCALENDAR