BEGIN:VCALENDAR
VERSION:2.0
PRODID:-//Richland Area Community Center - ECPv6.15.20//NONSGML v1.0//EN
CALSCALE:GREGORIAN
METHOD:PUBLISH
X-ORIGINAL-URL:https://www.richlandareacc.org
X-WR-CALDESC:Events for Richland Area Community Center
REFRESH-INTERVAL;VALUE=DURATION:PT1H
X-Robots-Tag:noindex
X-PUBLISHED-TTL:PT1H
BEGIN:VTIMEZONE
TZID:America/Detroit
BEGIN:DAYLIGHT
TZOFFSETFROM:-0500
TZOFFSETTO:-0400
TZNAME:EDT
DTSTART:20170312T070000
END:DAYLIGHT
BEGIN:STANDARD
TZOFFSETFROM:-0400
TZOFFSETTO:-0500
TZNAME:EST
DTSTART:20171105T060000
END:STANDARD
BEGIN:DAYLIGHT
TZOFFSETFROM:-0500
TZOFFSETTO:-0400
TZNAME:EDT
DTSTART:20180311T070000
END:DAYLIGHT
BEGIN:STANDARD
TZOFFSETFROM:-0400
TZOFFSETTO:-0500
TZNAME:EST
DTSTART:20181104T060000
END:STANDARD
BEGIN:DAYLIGHT
TZOFFSETFROM:-0500
TZOFFSETTO:-0400
TZNAME:EDT
DTSTART:20190310T070000
END:DAYLIGHT
BEGIN:STANDARD
TZOFFSETFROM:-0400
TZOFFSETTO:-0500
TZNAME:EST
DTSTART:20191103T060000
END:STANDARD
END:VTIMEZONE
BEGIN:VEVENT
DTSTART;TZID=America/Detroit:20181016T100000
DTEND;TZID=America/Detroit:20181016T120000
DTSTAMP:20260421T212617
CREATED:20180905T164134Z
LAST-MODIFIED:20180912T123619Z
UID:210872-1539684000-1539691200@www.richlandareacc.org
SUMMARY:Meridiancare Medicare Info Meetings
DESCRIPTION:October 16 & 31\, November 13 & 28\, 10:00 am-Noon\nMeridianCare offers Medicare Advantage Plans
URL:https://www.richlandareacc.org/event/meridiancare-medicare-info-meetings/2018-10-16/
LOCATION:Richland Area Community Center\, 9400 East CD Avenue\, Richland\, MI\, 49083\, United States
CATEGORIES:Healthy Living
ATTACH;FMTTYPE=image/jpeg:https://www.richlandareacc.org/wp-content/uploads/2018/09/meridiancare-logo-whole.jpg
ORGANIZER;CN="Richland Area Community Center":MAILTO:info@richlandareacc.org
GEO:42.3825887;-85.4465201
X-APPLE-STRUCTURED-LOCATION;VALUE=URI;X-ADDRESS=Richland Area Community Center 9400 East CD Avenue Richland MI 49083 United States;X-APPLE-RADIUS=500;X-TITLE=9400 East CD Avenue:geo:-85.4465201,42.3825887
END:VEVENT
END:VCALENDAR