BEGIN:VCALENDAR
VERSION:2.0
PRODID:-//Richland Area Community Center - ECPv6.15.20//NONSGML v1.0//EN
CALSCALE:GREGORIAN
METHOD:PUBLISH
X-WR-CALNAME:Richland Area Community Center
X-ORIGINAL-URL:http://www.richlandareacc.org
X-WR-CALDESC:Events for Richland Area Community Center
REFRESH-INTERVAL;VALUE=DURATION:PT1H
X-Robots-Tag:noindex
X-PUBLISHED-TTL:PT1H
BEGIN:VTIMEZONE
TZID:America/Detroit
BEGIN:DAYLIGHT
TZOFFSETFROM:-0500
TZOFFSETTO:-0400
TZNAME:EDT
DTSTART:20230312T070000
END:DAYLIGHT
BEGIN:STANDARD
TZOFFSETFROM:-0400
TZOFFSETTO:-0500
TZNAME:EST
DTSTART:20231105T060000
END:STANDARD
BEGIN:DAYLIGHT
TZOFFSETFROM:-0500
TZOFFSETTO:-0400
TZNAME:EDT
DTSTART:20240310T070000
END:DAYLIGHT
BEGIN:STANDARD
TZOFFSETFROM:-0400
TZOFFSETTO:-0500
TZNAME:EST
DTSTART:20241103T060000
END:STANDARD
BEGIN:DAYLIGHT
TZOFFSETFROM:-0500
TZOFFSETTO:-0400
TZNAME:EDT
DTSTART:20250309T070000
END:DAYLIGHT
BEGIN:STANDARD
TZOFFSETFROM:-0400
TZOFFSETTO:-0500
TZNAME:EST
DTSTART:20251102T060000
END:STANDARD
END:VTIMEZONE
BEGIN:VEVENT
DTSTART;TZID=America/Detroit:20240617T100000
DTEND;TZID=America/Detroit:20240617T120000
DTSTAMP:20260419T194140
CREATED:20240422T170239Z
LAST-MODIFIED:20240422T170239Z
UID:229134-1718618400-1718625600@www.richlandareacc.org
SUMMARY:American Girl Doll II: Craft & Culture Camp
DESCRIPTION:
URL:https://www.richlandareacc.org/american-girl-doll-camps/
LOCATION:Richland Area Community Center\, 9400 East CD Avenue\, Richland\, MI\, 49083\, United States
CATEGORIES:Art Classes,Camps
ATTACH;FMTTYPE=application/pdf:http://www.richlandareacc.org/wp-content/uploads/2024/04/American-Girl-Doll-Camp-2.pdf
ORGANIZER;CN="Richland Area Community Center":MAILTO:info@richlandareacc.org
GEO:42.3825887;-85.4465201
X-APPLE-STRUCTURED-LOCATION;VALUE=URI;X-ADDRESS=Richland Area Community Center 9400 East CD Avenue Richland MI 49083 United States;X-APPLE-RADIUS=500;X-TITLE=9400 East CD Avenue:geo:-85.4465201,42.3825887
END:VEVENT
BEGIN:VEVENT
DTSTART;TZID=America/Detroit:20240619T150000
DTEND;TZID=America/Detroit:20240619T180000
DTSTAMP:20260419T194140
CREATED:20240502T152732Z
LAST-MODIFIED:20240502T152732Z
UID:229208-1718809200-1718820000@www.richlandareacc.org
SUMMARY:2024 Summertime Live - Benjammin
DESCRIPTION:
URL:http://www.richlandareacc.org/event/2024-summertime-live-benjammin/
LOCATION:MI
CATEGORIES:Arts & Culture,Community Events,Music
ATTACH;FMTTYPE=image/png:http://www.richlandareacc.org/wp-content/uploads/2023/06/2024-Summertime-Live-Music-2.png
END:VEVENT
BEGIN:VEVENT
DTSTART;TZID=America/Detroit:20240619T150000
DTEND;TZID=America/Detroit:20240619T180000
DTSTAMP:20260419T194140
CREATED:20240505T201339Z
LAST-MODIFIED:20240505T201339Z
UID:229265-1718809200-1718820000@www.richlandareacc.org
SUMMARY:2024 Richland Farmers' Market - Food Trucks
DESCRIPTION:
URL:http://www.richlandareacc.org/event/2024-richland-farmers-market-food-trucks-4/
LOCATION:MI
CATEGORIES:Community Events,Culinary
ATTACH;FMTTYPE=image/png:http://www.richlandareacc.org/wp-content/uploads/2023/06/2024-RFM-Food-Trucks.png
END:VEVENT
BEGIN:VEVENT
DTSTART;TZID=America/Detroit:20240620T093000
DTEND;TZID=America/Detroit:20240620T103000
DTSTAMP:20260419T194140
CREATED:20231116T231829Z
LAST-MODIFIED:20231116T231829Z
UID:227113-1718875800-1718879400@www.richlandareacc.org
SUMMARY:Book Discussion
DESCRIPTION:No registration necessary.  Simply read the book and show up to the discussion group ready to share your thoughts\, insights and inspirations.  Below is a list of dates and books to be discussed: \n2024\nJan 18: The Heaven & Earth Grocery Store– by McBride\nFeb 15:  Astor: Rise & Fall of an American Fortune– by Cooper & Howe\nMar 21: The First Ladies – by Benedict & Murray\nApril 18: Lessons in Chemistry– by Garmus\nMay 16: The Last House on the Street– by Chamberlain\nJune 20: West with Giraffes – by Rutledge\nJuly 18: Demon Copperhead– by Kingsolver\nAug 15: Horse: A Novel – by Brooks\nSept 19: Tom Lake – by Patchett\nOct 17: Lady Tan’s Circle of Women– by See\nNov 21: The Secret Life of Sunflowers – by Molnar\nDec 19: The Ride of Her Life – by Letts \nOther Book Suggestions:\nA Boy and His Dog-Fletcher\nBel Canto– Patchett\nCrying in H Mart– Zauner\nHer Last Flight– Williams\nLove in the Time of Cholera– Marquez\nMean Baby– Blair\nState of Terror– Penny & Clinton\nSwitchboard Soldiers– Chiaverini\nThe Dutch House– Patchet\nThe Glass Castle– Walls\nThe Pope at War– Kertzer\nThe Thursday Murder Club– Osman\nUnorthodox– Feldman
URL:http://www.richlandareacc.org/event/book-discussion-2-2-2-2-2/2024-06-20/
LOCATION:Richland Area Community Center\, 9400 East CD Avenue\, Richland\, MI\, 49083\, United States
CATEGORIES:Book Discussion,Lifelong Learning
ATTACH;FMTTYPE=image/jpeg:http://www.richlandareacc.org/wp-content/uploads/2018/01/Book-Discussion-Group-scaled-e1615485757501.jpg
ORGANIZER;CN="Richland Area Community Center":MAILTO:info@richlandareacc.org
GEO:42.3825887;-85.4465201
X-APPLE-STRUCTURED-LOCATION;VALUE=URI;X-ADDRESS=Richland Area Community Center 9400 East CD Avenue Richland MI 49083 United States;X-APPLE-RADIUS=500;X-TITLE=9400 East CD Avenue:geo:-85.4465201,42.3825887
END:VEVENT
END:VCALENDAR