BEGIN:VCALENDAR
VERSION:2.0
PRODID:-//Richland Area Community Center - ECPv6.15.20//NONSGML v1.0//EN
CALSCALE:GREGORIAN
METHOD:PUBLISH
X-ORIGINAL-URL:http://www.richlandareacc.org
X-WR-CALDESC:Events for Richland Area Community Center
REFRESH-INTERVAL;VALUE=DURATION:PT1H
X-Robots-Tag:noindex
X-PUBLISHED-TTL:PT1H
BEGIN:VTIMEZONE
TZID:America/Detroit
BEGIN:DAYLIGHT
TZOFFSETFROM:-0500
TZOFFSETTO:-0400
TZNAME:EDT
DTSTART:20230312T070000
END:DAYLIGHT
BEGIN:STANDARD
TZOFFSETFROM:-0400
TZOFFSETTO:-0500
TZNAME:EST
DTSTART:20231105T060000
END:STANDARD
BEGIN:DAYLIGHT
TZOFFSETFROM:-0500
TZOFFSETTO:-0400
TZNAME:EDT
DTSTART:20240310T070000
END:DAYLIGHT
BEGIN:STANDARD
TZOFFSETFROM:-0400
TZOFFSETTO:-0500
TZNAME:EST
DTSTART:20241103T060000
END:STANDARD
BEGIN:DAYLIGHT
TZOFFSETFROM:-0500
TZOFFSETTO:-0400
TZNAME:EDT
DTSTART:20250309T070000
END:DAYLIGHT
BEGIN:STANDARD
TZOFFSETFROM:-0400
TZOFFSETTO:-0500
TZNAME:EST
DTSTART:20251102T060000
END:STANDARD
END:VTIMEZONE
BEGIN:VEVENT
DTSTART;VALUE=DATE:20240115
DTEND;VALUE=DATE:20240116
DTSTAMP:20260420T052634
CREATED:20240110T190903Z
LAST-MODIFIED:20240115T234459Z
UID:227954-1705276800-1705363199@www.richlandareacc.org
SUMMARY:CLOSED DUE TO INCLEMENT WEATHER
DESCRIPTION:The RACC will be closed\, January 15\, due to inclement weather. Stay safe out there!
URL:http://www.richlandareacc.org/event/closed-due-to-severe-weather/
LOCATION:Richland Area Community Center\, 9400 East CD Avenue\, Richland\, MI\, 49083\, United States
CATEGORIES:Community Events
ATTACH;FMTTYPE=image/png:http://www.richlandareacc.org/wp-content/uploads/2024/01/Blue-and-Orange-Weather-Announcement-Instagram-Post-2.png
ORGANIZER;CN="Richland Area Community Center":MAILTO:info@richlandareacc.org
GEO:42.3825887;-85.4465201
X-APPLE-STRUCTURED-LOCATION;VALUE=URI;X-ADDRESS=Richland Area Community Center 9400 East CD Avenue Richland MI 49083 United States;X-APPLE-RADIUS=500;X-TITLE=9400 East CD Avenue:geo:-85.4465201,42.3825887
END:VEVENT
BEGIN:VEVENT
DTSTART;TZID=America/Detroit:20240115T103000
DTEND;TZID=America/Detroit:20240115T113000
DTSTAMP:20260420T052634
CREATED:20190717T152938Z
LAST-MODIFIED:20240112T180353Z
UID:227485-1705314600-1705318200@www.richlandareacc.org
SUMMARY:Swingin' with Susan
DESCRIPTION:
URL:http://www.richlandareacc.org/swingin-with-susan/
LOCATION:Richland Area Community Center\, 9400 East CD Avenue\, Richland\, MI\, 49083\, United States
CATEGORIES:Fitness,Healthy Living,Social Groups,Swingin' with Susan
ATTACH;FMTTYPE=image/jpeg:http://www.richlandareacc.org/wp-content/uploads/2016/01/Swingin-with-Susan-3.jpg
ORGANIZER;CN="Richland Area Community Center":MAILTO:info@richlandareacc.org
GEO:42.3825887;-85.4465201
X-APPLE-STRUCTURED-LOCATION;VALUE=URI;X-ADDRESS=Richland Area Community Center 9400 East CD Avenue Richland MI 49083 United States;X-APPLE-RADIUS=500;X-TITLE=9400 East CD Avenue:geo:-85.4465201,42.3825887
END:VEVENT
BEGIN:VEVENT
DTSTART;TZID=America/Detroit:20240115T180000
DTEND;TZID=America/Detroit:20240115T190000
DTSTAMP:20260420T052634
CREATED:20231004T141349Z
LAST-MODIFIED:20231129T170525Z
UID:227013-1705341600-1705345200@www.richlandareacc.org
SUMMARY:6-Week Bootcamp w/ Stephanie
DESCRIPTION:
URL:http://www.richlandareacc.org/6-week-outdoor-bootcamp-with-stephanie-gambee-2/
LOCATION:Richland Area Community Center\, 9400 East CD Avenue\, Richland\, MI\, 49083\, United States
CATEGORIES:Fitness,Strength Training
ATTACH;FMTTYPE=image/png:http://www.richlandareacc.org/wp-content/uploads/2021/04/Stephanie-Gambee-Bootcamp-collage-pip.png
ORGANIZER;CN="Richland Area Community Center":MAILTO:info@richlandareacc.org
GEO:42.3825887;-85.4465201
X-APPLE-STRUCTURED-LOCATION;VALUE=URI;X-ADDRESS=Richland Area Community Center 9400 East CD Avenue Richland MI 49083 United States;X-APPLE-RADIUS=500;X-TITLE=9400 East CD Avenue:geo:-85.4465201,42.3825887
END:VEVENT
BEGIN:VEVENT
DTSTART;VALUE=DATE:20240116
DTEND;VALUE=DATE:20240117
DTSTAMP:20260420T052634
CREATED:20240115T234521Z
LAST-MODIFIED:20240115T234521Z
UID:227968-1705363200-1705449599@www.richlandareacc.org
SUMMARY:CLOSED DUE TO INCLEMENT WEATHER
DESCRIPTION:The RACC will be closed\, January 16\, due to inclement weather. Stay safe out there!
URL:http://www.richlandareacc.org/event/closed-due-to-severe-weather-2/
LOCATION:Richland Area Community Center\, 9400 East CD Avenue\, Richland\, MI\, 49083\, United States
CATEGORIES:Community Events
ATTACH;FMTTYPE=image/png:http://www.richlandareacc.org/wp-content/uploads/2024/01/Blue-and-Orange-Weather-Announcement-Instagram-Post-2.png
ORGANIZER;CN="Richland Area Community Center":MAILTO:info@richlandareacc.org
GEO:42.3825887;-85.4465201
X-APPLE-STRUCTURED-LOCATION;VALUE=URI;X-ADDRESS=Richland Area Community Center 9400 East CD Avenue Richland MI 49083 United States;X-APPLE-RADIUS=500;X-TITLE=9400 East CD Avenue:geo:-85.4465201,42.3825887
END:VEVENT
BEGIN:VEVENT
DTSTART;VALUE=DATE:20240117
DTEND;VALUE=DATE:20240118
DTSTAMP:20260420T052634
CREATED:20240117T003909Z
LAST-MODIFIED:20240117T003909Z
UID:227970-1705449600-1705535999@www.richlandareacc.org
SUMMARY:CLOSED DUE TO INCLEMENT WEATHER
DESCRIPTION:The RACC will be closed\, January 17\, due to inclement weather. Stay safe out there!
URL:http://www.richlandareacc.org/event/closed-due-to-severe-weather-2-2/
LOCATION:Richland Area Community Center\, 9400 East CD Avenue\, Richland\, MI\, 49083\, United States
CATEGORIES:Community Events
ATTACH;FMTTYPE=image/png:http://www.richlandareacc.org/wp-content/uploads/2024/01/Blue-and-Orange-Weather-Announcement-Instagram-Post-2.png
ORGANIZER;CN="Richland Area Community Center":MAILTO:info@richlandareacc.org
GEO:42.3825887;-85.4465201
X-APPLE-STRUCTURED-LOCATION;VALUE=URI;X-ADDRESS=Richland Area Community Center 9400 East CD Avenue Richland MI 49083 United States;X-APPLE-RADIUS=500;X-TITLE=9400 East CD Avenue:geo:-85.4465201,42.3825887
END:VEVENT
BEGIN:VEVENT
DTSTART;TZID=America/Detroit:20240117T130000
DTEND;TZID=America/Detroit:20240117T150000
DTSTAMP:20260420T052634
CREATED:20221116T185801Z
LAST-MODIFIED:20240117T010114Z
UID:224944-1705496400-1705503600@www.richlandareacc.org
SUMMARY:Ping Pong
DESCRIPTION:
URL:http://www.richlandareacc.org/event/ping-pong-2024-01-17/
LOCATION:Richland Area Community Center\, 9400 East CD Avenue\, Richland\, MI\, 49083\, United States
CATEGORIES:Healthy Living,Ping Pong,Social Groups
ATTACH;FMTTYPE=image/jpeg:http://www.richlandareacc.org/wp-content/uploads/2016/02/Ping-Pong-1.jpg
ORGANIZER;CN="Richland Area Community Center":MAILTO:info@richlandareacc.org
GEO:42.3825887;-85.4465201
X-APPLE-STRUCTURED-LOCATION;VALUE=URI;X-ADDRESS=Richland Area Community Center 9400 East CD Avenue Richland MI 49083 United States;X-APPLE-RADIUS=500;X-TITLE=9400 East CD Avenue:geo:-85.4465201,42.3825887
END:VEVENT
BEGIN:VEVENT
DTSTART;TZID=America/Detroit:20240118T093000
DTEND;TZID=America/Detroit:20240118T103000
DTSTAMP:20260420T052634
CREATED:20230412T142901Z
LAST-MODIFIED:20231116T231644Z
UID:226249-1705570200-1705573800@www.richlandareacc.org
SUMMARY:Book Discussion
DESCRIPTION:No registration necessary.  Simply read the book and show up to the discussion group ready to share your thoughts\, insights and inspirations.  Below is a list of dates and books to be discussed: \n2024\nJan 18: The Heaven & Earth Grocery Store– by McBride\nFeb 15:  Astor: Rise & Fall of an American Fortune– by Cooper & Howe\nMar 21: The First Ladies – by Benedict & Murray\nApril 18: Lessons in Chemistry– by Garmus\nMay 16: The Last House on the Street– by Chamberlain\nJune 20: West with Giraffes – by Rutledge\nJuly 18: Demon Copperhead– by Kingsolver\nAug 15: Horse: A Novel – by Brooks\nSept 19: Tom Lake – by Patchett\nOct 17: Lady Tan’s Circle of Women– by See\nNov 21: The Secret Life of Sunflowers – by Molnar\nDec 19: The Ride of Her Life – by Letts \nOther Book Suggestions:\nA Boy and His Dog-Fletcher\nBel Canto– Patchett\nCrying in H Mart– Zauner\nHer Last Flight– Williams\nLove in the Time of Cholera– Marquez\nMean Baby– Blair\nState of Terror– Penny & Clinton\nSwitchboard Soldiers– Chiaverini\nThe Dutch House– Patchet\nThe Glass Castle– Walls\nThe Pope at War– Kertzer\nThe Thursday Murder Club– Osman\nUnorthodox– Feldman
URL:http://www.richlandareacc.org/event/book-discussion/2024-01-18/
LOCATION:Richland Area Community Center\, 9400 East CD Avenue\, Richland\, MI\, 49083\, United States
CATEGORIES:Book Discussion,Lifelong Learning
ATTACH;FMTTYPE=image/jpeg:http://www.richlandareacc.org/wp-content/uploads/2018/01/Book-Discussion-Group-scaled-e1615485757501.jpg
ORGANIZER;CN="Richland Area Community Center":MAILTO:info@richlandareacc.org
GEO:42.3825887;-85.4465201
X-APPLE-STRUCTURED-LOCATION;VALUE=URI;X-ADDRESS=Richland Area Community Center 9400 East CD Avenue Richland MI 49083 United States;X-APPLE-RADIUS=500;X-TITLE=9400 East CD Avenue:geo:-85.4465201,42.3825887
END:VEVENT
END:VCALENDAR