BEGIN:VCALENDAR
VERSION:2.0
PRODID:-//Richland Area Community Center - ECPv6.15.20//NONSGML v1.0//EN
CALSCALE:GREGORIAN
METHOD:PUBLISH
X-ORIGINAL-URL:http://www.richlandareacc.org
X-WR-CALDESC:Events for Richland Area Community Center
REFRESH-INTERVAL;VALUE=DURATION:PT1H
X-Robots-Tag:noindex
X-PUBLISHED-TTL:PT1H
BEGIN:VTIMEZONE
TZID:America/Detroit
BEGIN:DAYLIGHT
TZOFFSETFROM:-0500
TZOFFSETTO:-0400
TZNAME:EDT
DTSTART:20240310T070000
END:DAYLIGHT
BEGIN:STANDARD
TZOFFSETFROM:-0400
TZOFFSETTO:-0500
TZNAME:EST
DTSTART:20241103T060000
END:STANDARD
BEGIN:DAYLIGHT
TZOFFSETFROM:-0500
TZOFFSETTO:-0400
TZNAME:EDT
DTSTART:20250309T070000
END:DAYLIGHT
BEGIN:STANDARD
TZOFFSETFROM:-0400
TZOFFSETTO:-0500
TZNAME:EST
DTSTART:20251102T060000
END:STANDARD
BEGIN:DAYLIGHT
TZOFFSETFROM:-0500
TZOFFSETTO:-0400
TZNAME:EDT
DTSTART:20260308T070000
END:DAYLIGHT
BEGIN:STANDARD
TZOFFSETFROM:-0400
TZOFFSETTO:-0500
TZNAME:EST
DTSTART:20261101T060000
END:STANDARD
BEGIN:DAYLIGHT
TZOFFSETFROM:-0500
TZOFFSETTO:-0400
TZNAME:EDT
DTSTART:20270314T070000
END:DAYLIGHT
BEGIN:STANDARD
TZOFFSETFROM:-0400
TZOFFSETTO:-0500
TZNAME:EST
DTSTART:20271107T060000
END:STANDARD
END:VTIMEZONE
BEGIN:VEVENT
DTSTART;TZID=America/Detroit:20250717T093000
DTEND;TZID=America/Detroit:20250717T123000
DTSTAMP:20260423T183231
CREATED:20250320T202535Z
LAST-MODIFIED:20250320T203210Z
UID:231981-1752744600-1752755400@www.richlandareacc.org
SUMMARY:Summer Yoga Camp at RACC with Ms. Sarah!
DESCRIPTION:
URL:https://www.richlandareacc.org/summer-yoga-camp-at-racc-with-ms-sarah/
LOCATION:Richland Area Community Center\, 9400 East CD Avenue\, Richland\, MI\, 49083\, United States
CATEGORIES:Camp,Camps
ATTACH;FMTTYPE=image/png:http://www.richlandareacc.org/wp-content/uploads/2025/03/Yoga-Craft-Camp-1-2.png
ORGANIZER;CN="Richland Area Community Center":MAILTO:info@richlandareacc.org
GEO:42.3825887;-85.4465201
X-APPLE-STRUCTURED-LOCATION;VALUE=URI;X-ADDRESS=Richland Area Community Center 9400 East CD Avenue Richland MI 49083 United States;X-APPLE-RADIUS=500;X-TITLE=9400 East CD Avenue:geo:-85.4465201,42.3825887
END:VEVENT
BEGIN:VEVENT
DTSTART;TZID=America/Detroit:20260713T100000
DTEND;TZID=America/Detroit:20260713T120000
DTSTAMP:20260423T183231
CREATED:20260423T180334Z
LAST-MODIFIED:20260423T180334Z
UID:234054-1783936800-1783944000@www.richlandareacc.org
SUMMARY:Crafty Creations Camp
DESCRIPTION:
URL:http://www.richlandareacc.org/event/crafty-creations-camp/2026-07-13/
LOCATION:Richland Area Community Center\, 9400 East CD Avenue\, Richland\, MI\, 49083\, United States
CATEGORIES:Art Classes,Arts & Culture,Camp,Camps
ATTACH;FMTTYPE=image/png:http://www.richlandareacc.org/wp-content/uploads/2026/04/2026-Crafty-Creations-Camp.png
ORGANIZER;CN="Richland Area Community Center":MAILTO:info@richlandareacc.org
GEO:42.3825887;-85.4465201
X-APPLE-STRUCTURED-LOCATION;VALUE=URI;X-ADDRESS=Richland Area Community Center 9400 East CD Avenue Richland MI 49083 United States;X-APPLE-RADIUS=500;X-TITLE=9400 East CD Avenue:geo:-85.4465201,42.3825887
END:VEVENT
BEGIN:VEVENT
DTSTART;TZID=America/Detroit:20260714T100000
DTEND;TZID=America/Detroit:20260714T120000
DTSTAMP:20260423T183231
CREATED:20260423T180335Z
LAST-MODIFIED:20260423T180335Z
UID:234055-1784023200-1784030400@www.richlandareacc.org
SUMMARY:Crafty Creations Camp
DESCRIPTION:
URL:http://www.richlandareacc.org/event/crafty-creations-camp/2026-07-14/
LOCATION:Richland Area Community Center\, 9400 East CD Avenue\, Richland\, MI\, 49083\, United States
CATEGORIES:Art Classes,Arts & Culture,Camp,Camps
ATTACH;FMTTYPE=image/png:http://www.richlandareacc.org/wp-content/uploads/2026/04/2026-Crafty-Creations-Camp.png
ORGANIZER;CN="Richland Area Community Center":MAILTO:info@richlandareacc.org
GEO:42.3825887;-85.4465201
X-APPLE-STRUCTURED-LOCATION;VALUE=URI;X-ADDRESS=Richland Area Community Center 9400 East CD Avenue Richland MI 49083 United States;X-APPLE-RADIUS=500;X-TITLE=9400 East CD Avenue:geo:-85.4465201,42.3825887
END:VEVENT
BEGIN:VEVENT
DTSTART;TZID=America/Detroit:20260715T100000
DTEND;TZID=America/Detroit:20260715T120000
DTSTAMP:20260423T183231
CREATED:20260423T180335Z
LAST-MODIFIED:20260423T180335Z
UID:234056-1784109600-1784116800@www.richlandareacc.org
SUMMARY:Crafty Creations Camp
DESCRIPTION:
URL:http://www.richlandareacc.org/event/crafty-creations-camp/2026-07-15/
LOCATION:Richland Area Community Center\, 9400 East CD Avenue\, Richland\, MI\, 49083\, United States
CATEGORIES:Art Classes,Arts & Culture,Camp,Camps
ATTACH;FMTTYPE=image/png:http://www.richlandareacc.org/wp-content/uploads/2026/04/2026-Crafty-Creations-Camp.png
ORGANIZER;CN="Richland Area Community Center":MAILTO:info@richlandareacc.org
GEO:42.3825887;-85.4465201
X-APPLE-STRUCTURED-LOCATION;VALUE=URI;X-ADDRESS=Richland Area Community Center 9400 East CD Avenue Richland MI 49083 United States;X-APPLE-RADIUS=500;X-TITLE=9400 East CD Avenue:geo:-85.4465201,42.3825887
END:VEVENT
BEGIN:VEVENT
DTSTART;TZID=America/Detroit:20260716T100000
DTEND;TZID=America/Detroit:20260716T120000
DTSTAMP:20260423T183231
CREATED:20260423T180335Z
LAST-MODIFIED:20260423T180335Z
UID:234057-1784196000-1784203200@www.richlandareacc.org
SUMMARY:Crafty Creations Camp
DESCRIPTION:
URL:http://www.richlandareacc.org/event/crafty-creations-camp/2026-07-16/
LOCATION:Richland Area Community Center\, 9400 East CD Avenue\, Richland\, MI\, 49083\, United States
CATEGORIES:Art Classes,Arts & Culture,Camp,Camps
ATTACH;FMTTYPE=image/png:http://www.richlandareacc.org/wp-content/uploads/2026/04/2026-Crafty-Creations-Camp.png
ORGANIZER;CN="Richland Area Community Center":MAILTO:info@richlandareacc.org
GEO:42.3825887;-85.4465201
X-APPLE-STRUCTURED-LOCATION;VALUE=URI;X-ADDRESS=Richland Area Community Center 9400 East CD Avenue Richland MI 49083 United States;X-APPLE-RADIUS=500;X-TITLE=9400 East CD Avenue:geo:-85.4465201,42.3825887
END:VEVENT
END:VCALENDAR