BEGIN:VCALENDAR
VERSION:2.0
PRODID:-//Richland Area Community Center - ECPv6.15.20//NONSGML v1.0//EN
CALSCALE:GREGORIAN
METHOD:PUBLISH
X-WR-CALNAME:Richland Area Community Center
X-ORIGINAL-URL:http://www.richlandareacc.org
X-WR-CALDESC:Events for Richland Area Community Center
REFRESH-INTERVAL;VALUE=DURATION:PT1H
X-Robots-Tag:noindex
X-PUBLISHED-TTL:PT1H
BEGIN:VTIMEZONE
TZID:America/Detroit
BEGIN:DAYLIGHT
TZOFFSETFROM:-0500
TZOFFSETTO:-0400
TZNAME:EDT
DTSTART:20220313T070000
END:DAYLIGHT
BEGIN:STANDARD
TZOFFSETFROM:-0400
TZOFFSETTO:-0500
TZNAME:EST
DTSTART:20221106T060000
END:STANDARD
BEGIN:DAYLIGHT
TZOFFSETFROM:-0500
TZOFFSETTO:-0400
TZNAME:EDT
DTSTART:20230312T070000
END:DAYLIGHT
BEGIN:STANDARD
TZOFFSETFROM:-0400
TZOFFSETTO:-0500
TZNAME:EST
DTSTART:20231105T060000
END:STANDARD
BEGIN:DAYLIGHT
TZOFFSETFROM:-0500
TZOFFSETTO:-0400
TZNAME:EDT
DTSTART:20240310T070000
END:DAYLIGHT
BEGIN:STANDARD
TZOFFSETFROM:-0400
TZOFFSETTO:-0500
TZNAME:EST
DTSTART:20241103T060000
END:STANDARD
BEGIN:DAYLIGHT
TZOFFSETFROM:-0500
TZOFFSETTO:-0400
TZNAME:EDT
DTSTART:20250309T070000
END:DAYLIGHT
BEGIN:STANDARD
TZOFFSETFROM:-0400
TZOFFSETTO:-0500
TZNAME:EST
DTSTART:20251102T060000
END:STANDARD
END:VTIMEZONE
BEGIN:VEVENT
DTSTART;TZID=America/Detroit:20240626T150000
DTEND;TZID=America/Detroit:20240626T180000
DTSTAMP:20260422T194815
CREATED:20240502T152936Z
LAST-MODIFIED:20240502T152936Z
UID:229210-1719414000-1719424800@www.richlandareacc.org
SUMMARY:2024 Summertime Live - Crescendo Fiddlers
DESCRIPTION:
URL:http://www.richlandareacc.org/event/2024-summertime-live-benjammin-2/
CATEGORIES:Arts & Culture,Community Events,Music
ATTACH;FMTTYPE=image/png:http://www.richlandareacc.org/wp-content/uploads/2023/06/2024-Summertime-Live-Music-2.png
END:VEVENT
BEGIN:VEVENT
DTSTART;TZID=America/Detroit:20240619T150000
DTEND;TZID=America/Detroit:20240619T180000
DTSTAMP:20260422T194815
CREATED:20240502T152732Z
LAST-MODIFIED:20240502T152732Z
UID:229208-1718809200-1718820000@www.richlandareacc.org
SUMMARY:2024 Summertime Live - Benjammin
DESCRIPTION:
URL:http://www.richlandareacc.org/event/2024-summertime-live-benjammin/
CATEGORIES:Arts & Culture,Community Events,Music
ATTACH;FMTTYPE=image/png:http://www.richlandareacc.org/wp-content/uploads/2023/06/2024-Summertime-Live-Music-2.png
END:VEVENT
BEGIN:VEVENT
DTSTART;TZID=America/Detroit:20230802T150000
DTEND;TZID=America/Detroit:20230802T180000
DTSTAMP:20260422T194815
CREATED:20230506T211553Z
LAST-MODIFIED:20230506T211553Z
UID:226452-1690988400-1690999200@www.richlandareacc.org
SUMMARY:Summertime Live Concerts- Joshua Tree
DESCRIPTION:
URL:http://www.richlandareacc.org/event/summertime-live-concerts-joshua-tree/
LOCATION:Richland Area Community Center\, 9400 East CD Avenue\, Richland\, MI\, 49083\, United States
CATEGORIES:Community Events,Music
ATTACH;FMTTYPE=image/jpeg:http://www.richlandareacc.org/wp-content/uploads/2023/05/Concerts-at-the-Richland-Area-Community-Center-2.jpg
ORGANIZER;CN="Richland Area Community Center":MAILTO:info@richlandareacc.org
GEO:42.3825887;-85.4465201
X-APPLE-STRUCTURED-LOCATION;VALUE=URI;X-ADDRESS=Richland Area Community Center 9400 East CD Avenue Richland MI 49083 United States;X-APPLE-RADIUS=500;X-TITLE=9400 East CD Avenue:geo:-85.4465201,42.3825887
END:VEVENT
BEGIN:VEVENT
DTSTART;TZID=America/Detroit:20230726T150000
DTEND;TZID=America/Detroit:20230726T180000
DTSTAMP:20260422T194815
CREATED:20230506T211258Z
LAST-MODIFIED:20230506T211258Z
UID:226450-1690383600-1690394400@www.richlandareacc.org
SUMMARY:Summertime Live Concert - Crescendo Fiddlers
DESCRIPTION:
URL:http://www.richlandareacc.org/event/summertime-live-concert-crescendo-fiddlers/
LOCATION:Richland Area Community Center\, 9400 East CD Avenue\, Richland\, MI\, 49083\, United States
CATEGORIES:Community Events,Music
ATTACH;FMTTYPE=image/jpeg:http://www.richlandareacc.org/wp-content/uploads/2023/05/Concerts-at-the-Richland-Area-Community-Center-2.jpg
ORGANIZER;CN="Richland Area Community Center":MAILTO:info@richlandareacc.org
GEO:42.3825887;-85.4465201
X-APPLE-STRUCTURED-LOCATION;VALUE=URI;X-ADDRESS=Richland Area Community Center 9400 East CD Avenue Richland MI 49083 United States;X-APPLE-RADIUS=500;X-TITLE=9400 East CD Avenue:geo:-85.4465201,42.3825887
END:VEVENT
BEGIN:VEVENT
DTSTART;TZID=America/Detroit:20230712T150000
DTEND;TZID=America/Detroit:20230712T180000
DTSTAMP:20260422T194815
CREATED:20230506T211024Z
LAST-MODIFIED:20230506T211024Z
UID:226447-1689174000-1689184800@www.richlandareacc.org
SUMMARY:Summertime Live Concerts- LaSoulfulRock
DESCRIPTION:
URL:http://www.richlandareacc.org/event/summertime-live-concerts-lasoulfulrock/2023-07-12/
LOCATION:Richland Area Community Center\, 9400 East CD Avenue\, Richland\, MI\, 49083\, United States
CATEGORIES:Community Events,Music
ATTACH;FMTTYPE=image/jpeg:http://www.richlandareacc.org/wp-content/uploads/2023/05/Concerts-at-the-Richland-Area-Community-Center-2.jpg
ORGANIZER;CN="Richland Area Community Center":MAILTO:info@richlandareacc.org
GEO:42.3825887;-85.4465201
X-APPLE-STRUCTURED-LOCATION;VALUE=URI;X-ADDRESS=Richland Area Community Center 9400 East CD Avenue Richland MI 49083 United States;X-APPLE-RADIUS=500;X-TITLE=9400 East CD Avenue:geo:-85.4465201,42.3825887
END:VEVENT
BEGIN:VEVENT
DTSTART;TZID=America/Detroit:20230705T150000
DTEND;TZID=America/Detroit:20230705T180000
DTSTAMP:20260422T194815
CREATED:20230506T210130Z
LAST-MODIFIED:20230506T210130Z
UID:226445-1688569200-1688580000@www.richlandareacc.org
SUMMARY:Summertime Live Concerts- Payton & Annabelle
DESCRIPTION:
URL:http://www.richlandareacc.org/event/summertime-live-concerts-payton-annabelle/
LOCATION:Richland Area Community Center\, 9400 East CD Avenue\, Richland\, MI\, 49083\, United States
CATEGORIES:Community Events,Music
ATTACH;FMTTYPE=image/jpeg:http://www.richlandareacc.org/wp-content/uploads/2023/05/Concerts-at-the-Richland-Area-Community-Center-2.jpg
ORGANIZER;CN="Richland Area Community Center":MAILTO:info@richlandareacc.org
GEO:42.3825887;-85.4465201
X-APPLE-STRUCTURED-LOCATION;VALUE=URI;X-ADDRESS=Richland Area Community Center 9400 East CD Avenue Richland MI 49083 United States;X-APPLE-RADIUS=500;X-TITLE=9400 East CD Avenue:geo:-85.4465201,42.3825887
END:VEVENT
BEGIN:VEVENT
DTSTART;TZID=America/Detroit:20230628T150000
DTEND;TZID=America/Detroit:20230628T180000
DTSTAMP:20260422T194815
CREATED:20230506T205733Z
LAST-MODIFIED:20230506T205733Z
UID:226443-1687964400-1687975200@www.richlandareacc.org
SUMMARY:Summertime Live Concerts- The Hoot Owls
DESCRIPTION:
URL:http://www.richlandareacc.org/event/summertime-live-concerts-the-hoot-owls/
LOCATION:Richland Area Community Center\, 9400 East CD Avenue\, Richland\, MI\, 49083\, United States
CATEGORIES:Community Events,Music
ATTACH;FMTTYPE=image/jpeg:http://www.richlandareacc.org/wp-content/uploads/2023/05/Concerts-at-the-Richland-Area-Community-Center-2.jpg
ORGANIZER;CN="Richland Area Community Center":MAILTO:info@richlandareacc.org
GEO:42.3825887;-85.4465201
X-APPLE-STRUCTURED-LOCATION;VALUE=URI;X-ADDRESS=Richland Area Community Center 9400 East CD Avenue Richland MI 49083 United States;X-APPLE-RADIUS=500;X-TITLE=9400 East CD Avenue:geo:-85.4465201,42.3825887
END:VEVENT
BEGIN:VEVENT
DTSTART;TZID=America/Detroit:20230621T150000
DTEND;TZID=America/Detroit:20230621T180000
DTSTAMP:20260422T194815
CREATED:20230506T205537Z
LAST-MODIFIED:20230506T205537Z
UID:226441-1687359600-1687370400@www.richlandareacc.org
SUMMARY:Summertime Live Concerts- Gun River Band
DESCRIPTION:
URL:http://www.richlandareacc.org/event/summertime-live-concerts-gun-river-band/
LOCATION:Richland Area Community Center\, 9400 East CD Avenue\, Richland\, MI\, 49083\, United States
CATEGORIES:Community Events,Music
ATTACH;FMTTYPE=image/jpeg:http://www.richlandareacc.org/wp-content/uploads/2023/05/Concerts-at-the-Richland-Area-Community-Center-2.jpg
ORGANIZER;CN="Richland Area Community Center":MAILTO:info@richlandareacc.org
GEO:42.3825887;-85.4465201
X-APPLE-STRUCTURED-LOCATION;VALUE=URI;X-ADDRESS=Richland Area Community Center 9400 East CD Avenue Richland MI 49083 United States;X-APPLE-RADIUS=500;X-TITLE=9400 East CD Avenue:geo:-85.4465201,42.3825887
END:VEVENT
BEGIN:VEVENT
DTSTART;TZID=America/Detroit:20230614T150000
DTEND;TZID=America/Detroit:20230614T180000
DTSTAMP:20260422T194815
CREATED:20230506T205235Z
LAST-MODIFIED:20230506T205235Z
UID:226438-1686754800-1686765600@www.richlandareacc.org
SUMMARY:Summertime Live Concerts - BenJammin Kid's Concert
DESCRIPTION:
URL:http://www.richlandareacc.org/event/summertime-live-concerts-benjammin-kids-concert/
LOCATION:Richland Area Community Center\, 9400 East CD Avenue\, Richland\, MI\, 49083\, United States
CATEGORIES:Community Events,Music
ATTACH;FMTTYPE=image/jpeg:http://www.richlandareacc.org/wp-content/uploads/2023/05/Concerts-at-the-Richland-Area-Community-Center-2.jpg
ORGANIZER;CN="Richland Area Community Center":MAILTO:info@richlandareacc.org
GEO:42.3825887;-85.4465201
X-APPLE-STRUCTURED-LOCATION;VALUE=URI;X-ADDRESS=Richland Area Community Center 9400 East CD Avenue Richland MI 49083 United States;X-APPLE-RADIUS=500;X-TITLE=9400 East CD Avenue:geo:-85.4465201,42.3825887
END:VEVENT
END:VCALENDAR