BEGIN:VCALENDAR
VERSION:2.0
PRODID:-//Richland Area Community Center - ECPv6.15.20//NONSGML v1.0//EN
CALSCALE:GREGORIAN
METHOD:PUBLISH
X-WR-CALNAME:Richland Area Community Center
X-ORIGINAL-URL:http://www.richlandareacc.org
X-WR-CALDESC:Events for Richland Area Community Center
REFRESH-INTERVAL;VALUE=DURATION:PT1H
X-Robots-Tag:noindex
X-PUBLISHED-TTL:PT1H
BEGIN:VTIMEZONE
TZID:America/Detroit
BEGIN:DAYLIGHT
TZOFFSETFROM:-0500
TZOFFSETTO:-0400
TZNAME:EDT
DTSTART:20230312T070000
END:DAYLIGHT
BEGIN:STANDARD
TZOFFSETFROM:-0400
TZOFFSETTO:-0500
TZNAME:EST
DTSTART:20231105T060000
END:STANDARD
BEGIN:DAYLIGHT
TZOFFSETFROM:-0500
TZOFFSETTO:-0400
TZNAME:EDT
DTSTART:20240310T070000
END:DAYLIGHT
BEGIN:STANDARD
TZOFFSETFROM:-0400
TZOFFSETTO:-0500
TZNAME:EST
DTSTART:20241103T060000
END:STANDARD
BEGIN:DAYLIGHT
TZOFFSETFROM:-0500
TZOFFSETTO:-0400
TZNAME:EDT
DTSTART:20250309T070000
END:DAYLIGHT
BEGIN:STANDARD
TZOFFSETFROM:-0400
TZOFFSETTO:-0500
TZNAME:EST
DTSTART:20251102T060000
END:STANDARD
END:VTIMEZONE
BEGIN:VEVENT
DTSTART;VALUE=DATE:20240704
DTEND;VALUE=DATE:20240709
DTSTAMP:20260423T175750
CREATED:20240617T161551Z
LAST-MODIFIED:20240620T143149Z
UID:229482-1720051200-1720483199@www.richlandareacc.org
SUMMARY:Closed July 4th weekend
DESCRIPTION:The RACC will be closed for the 4th of July weekend. We will be closed from 3pm on July 3rd and will return Monday July 8th at 9am.  Any questions please call the RACC at (269)629-9430 during normal business hours. Thank you
URL:http://www.richlandareacc.org/event/closed-july-4th-weekend/
LOCATION:MI
ATTACH;FMTTYPE=image/png:http://www.richlandareacc.org/wp-content/uploads/2024/06/Celebrating-4th-of-July-Closed-Sign-Instagram-Post-1.png
END:VEVENT
END:VCALENDAR